BEGIN:VCALENDAR
VERSION:2.0
PRODID:-//IlluminAge WordPress Calendar Plugin//
CALSCALE:GREGORIAN
METHOD:PUBLISH
X-WR-CALNAME:Elder Care Management
X-WR-CALDESC:
X-FROM-URL:https://eldercm.com
BEGIN:VEVENT
URL:https://eldercm.com/presentation-to-sun-city-lincoln-hills-alzheimers-dementia-caregivers-support-group/
UID:https://eldercm.com/presentation-to-sun-city-lincoln-hills-alzheimers-dementia-caregivers-support-group/
DTSTAMP:20260421T080540Z
DTSTART: 20190227T210000Z
DTEND: 20190228T075959Z
SUMMARY:Presentation to Sun City Lincoln Hills Alzheimer’s &amp; Dementia Caregiver's Support Group
CONTACT:
LOCATION: - , 
END:VEVENT
END:VCALENDAR