BEGIN:VCALENDAR
VERSION:2.0
PRODID:-//IlluminAge WordPress Calendar Plugin//
CALSCALE:GREGORIAN
METHOD:PUBLISH
X-WR-CALNAME:Elder Care Management
X-WR-CALDESC:
X-FROM-URL:https://eldercm.com
BEGIN:VEVENT
URL:https://eldercm.com/what-my-dogs-taught-me-about-aging-presentation-by-judy-kent-at-eskaton-lodge-placerville/
UID:https://eldercm.com/what-my-dogs-taught-me-about-aging-presentation-by-judy-kent-at-eskaton-lodge-placerville/
DTSTAMP:20260421T080546Z
DTSTART: 20190225T210000Z
DTEND: 20190226T075959Z
SUMMARY:"What My Dogs Taught me about Aging" presentation by Judy Kent at Eskaton Lodge Placerville
CONTACT:Eskaton Lodge Placerville
LOCATION:Eskaton Lodge Placerville - 3380 Blairs Ln, Placerville, CA 95667
END:VEVENT
END:VCALENDAR