BEGIN:VCALENDAR
VERSION:2.0
PRODID:-//IlluminAge WordPress Calendar Plugin//
CALSCALE:GREGORIAN
METHOD:PUBLISH
X-WR-CALNAME:Elder Care Management
X-WR-CALDESC:
X-FROM-URL:https://eldercm.com
BEGIN:VEVENT
URL:https://eldercm.com/virtual-dementia-tour-presentation-on-dementia-at-eskaton-lodge-gold-river/
UID:https://eldercm.com/virtual-dementia-tour-presentation-on-dementia-at-eskaton-lodge-gold-river/
DTSTAMP:20260421T092541Z
DTSTART: 20190123T230000Z
DTEND: 20190124T030000Z
SUMMARY:Virtual Dementia Tour &amp; presentation on Dementia at Eskaton Lodge Gold River
CONTACT:Vanessa Romero
LOCATION:Eskaton Lodge Gold River - 11390 Coloma Road, Gold River, CA 95670
END:VEVENT
END:VCALENDAR