BEGIN:VCALENDAR
VERSION:2.0
PRODID:-//IlluminAge WordPress Calendar Plugin//
CALSCALE:GREGORIAN
METHOD:PUBLISH
X-WR-CALNAME:Elder Care Management
X-WR-CALDESC:
X-FROM-URL:https://eldercm.com
BEGIN:VEVENT
URL:https://eldercm.com/understanding-your-senior-living-options-presentation-at-oakmont-of-carmichael/
UID:https://eldercm.com/understanding-your-senior-living-options-presentation-at-oakmont-of-carmichael/
DTSTAMP:20260421T092649Z
DTSTART: 20190118T020000Z
DTEND: 20190118T033000Z
SUMMARY:Understanding Your Senior Living Options presentation at Oakmont of Carmichael
CONTACT:John Chaves
LOCATION:Oakmont of Carmichael - 4717 Engle Road, Carmichael, CA 95608
END:VEVENT
END:VCALENDAR