BEGIN:VCALENDAR
VERSION:2.0
PRODID:-//IlluminAge WordPress Calendar Plugin//
CALSCALE:GREGORIAN
METHOD:PUBLISH
X-WR-CALNAME:Elder Care Management
X-WR-CALDESC:
X-FROM-URL:https://eldercm.com
BEGIN:VEVENT
URL:https://eldercm.com/folsom-physical-therapy-hosts-the-next-act-presentation/
UID:https://eldercm.com/folsom-physical-therapy-hosts-the-next-act-presentation/
DTSTAMP:20260421T092756Z
DTSTART: 20190214T030000Z
DTEND: 20190214T075959Z
SUMMARY:Folsom Physical Therapy hosts The Next Act presentation
CONTACT:Folsom Physical Therapy
LOCATION:Folsom Physical Therapy - 115 Natoma Street, Folsom, CA 95630
END:VEVENT
END:VCALENDAR