BEGIN:VCALENDAR
VERSION:2.0
PRODID:-//IlluminAge WordPress Calendar Plugin//
CALSCALE:GREGORIAN
METHOD:PUBLISH
X-WR-CALNAME:Elder Care Management
X-WR-CALDESC:
X-FROM-URL:https://eldercm.com
BEGIN:VEVENT
URL:https://eldercm.com/del-oro-hosts-an-educational-presentation-by-ginger-mcmurchie-911-the-event-has-happened-now-what/
UID:https://eldercm.com/del-oro-hosts-an-educational-presentation-by-ginger-mcmurchie-911-the-event-has-happened-now-what/
DTSTAMP:20260421T102708Z
DTSTART: 20190129T183000Z
DTEND: 20190129T200000Z
SUMMARY:Del Oro hosts an educational presentation by Ginger McMurchie: 911- The Event has Happened... Now What?
CONTACT:Del Oro Caregiver Resource Center
LOCATION:Woodland Senior Center - 2001 East Street, Woodland, CA 95776
END:VEVENT
END:VCALENDAR