BEGIN:VCALENDAR
VERSION:2.0
PRODID:-//IlluminAge WordPress Calendar Plugin//
CALSCALE:GREGORIAN
METHOD:PUBLISH
X-WR-CALNAME:Elder Care Management
X-WR-CALDESC:
X-FROM-URL:https://eldercm.com
BEGIN:VEVENT
URL:https://eldercm.com/el-dorado-countys-dementia-education-informational-workshop/
UID:https://eldercm.com/el-dorado-countys-dementia-education-informational-workshop/
DTSTAMP:20260421T092648Z
DTSTART: 20190126T163000Z
DTEND: 20190126T233000Z
SUMMARY:El Dorado County's Dementia Education Informational Workshop
CONTACT:El Dorado County
LOCATION:"The Club" EDC Older Adult Day Services - 990 Lassen Lane, El Dorado Hills, CA 
END:VEVENT
END:VCALENDAR