BEGIN:VCALENDAR
VERSION:2.0
PRODID:-//IlluminAge WordPress Calendar Plugin//
CALSCALE:GREGORIAN
METHOD:PUBLISH
X-WR-CALNAME:Elder Care Management
X-WR-CALDESC:
X-FROM-URL:https://eldercm.com
BEGIN:VEVENT
URL:https://eldercm.com/advance-health-care-directives-polst-presentation-on-zoom/
UID:https://eldercm.com/advance-health-care-directives-polst-presentation-on-zoom/
DTSTAMP:20260421T145234Z
DTSTART: 20220603T170000Z
DTEND: 20220603T183000Z
SUMMARY:Advance Health Care Directives & POLST
CONTACT:Maureen Lawrence
LOCATION:Woodland Community & Senior Center - 2001 East Street, Woodland, CA 95776
END:VEVENT
END:VCALENDAR