BEGIN:VCALENDAR
VERSION:2.0
PRODID:-//IlluminAge WordPress Calendar Plugin//
CALSCALE:GREGORIAN
METHOD:PUBLISH
X-WR-CALNAME:Elder Care Management
X-WR-CALDESC:
X-FROM-URL:https://eldercm.com
BEGIN:VEVENT
URL:https://eldercm.com/dementia-caregiver-education-series-session1/
UID:https://eldercm.com/dementia-caregiver-education-series-session1/
DTSTAMP:20260421T094033Z
DTSTART: 20240828T210000Z
DTEND: 20240828T223000Z
SUMMARY:Dementia Caregiver Education Series- Session#1
CONTACT:Maureen Lawrence
LOCATION:Senior Center of Elk Grove - 8230 Civic Center Dr. Ste. 140, Elk Grove, CA 95757
END:VEVENT
END:VCALENDAR