BEGIN:VCALENDAR
VERSION:2.0
PRODID:-//IlluminAge WordPress Calendar Plugin//
CALSCALE:GREGORIAN
METHOD:PUBLISH
X-WR-CALNAME:Elder Care Management
X-WR-CALDESC:
X-FROM-URL:https://eldercm.com
BEGIN:VEVENT
URL:https://eldercm.com/sun-city-roseville-home-health-showcase-a-well-being-experience-2/
UID:https://eldercm.com/sun-city-roseville-home-health-showcase-a-well-being-experience-2/
DTSTAMP:20260421T161934Z
DTSTART: 20240501T160000Z
DTEND: 20240501T200000Z
SUMMARY:Sun City Roseville Home & Health Showcase: A Well-being Experience
CONTACT:
LOCATION:Sun City Roseville - 7050 Del Webb Blvd. , Roseville, CA 95747 
END:VEVENT
END:VCALENDAR