BEGIN:VCALENDAR
VERSION:2.0
PRODID:-//IlluminAge WordPress Calendar Plugin//
CALSCALE:GREGORIAN
METHOD:PUBLISH
X-WR-CALNAME:Elder Care Management
X-WR-CALDESC:
X-FROM-URL:https://eldercm.com
BEGIN:VEVENT
URL:https://eldercm.com/folsom-spring-senior-resource-fair-2/
UID:https://eldercm.com/folsom-spring-senior-resource-fair-2/
DTSTAMP:20260421T161352Z
DTSTART: 20240523T160000Z
DTEND: 20240523T200000Z
SUMMARY:City of Woodland Senior Resource Fair
CONTACT:
LOCATION:Woodland Community & Senior Center - 2001 East Street, Woodland, CA 95776
END:VEVENT
END:VCALENDAR