BEGIN:VCALENDAR
VERSION:2.0
PRODID:-//IlluminAge WordPress Calendar Plugin//
CALSCALE:GREGORIAN
METHOD:PUBLISH
X-WR-CALNAME:Elder Care Management
X-WR-CALDESC:
X-FROM-URL:https://eldercm.com
BEGIN:VEVENT
URL:https://eldercm.com/national-healthcare-decisions-day/
UID:https://eldercm.com/national-healthcare-decisions-day/
DTSTAMP:20260421T144939Z
DTSTART: 20240416T070000Z
DTEND: 20240417T065959Z
SUMMARY:National Healthcare Decisions Day
CONTACT:
LOCATION: - , 
END:VEVENT
END:VCALENDAR