BEGIN:VCALENDAR
VERSION:2.0
PRODID:-//IlluminAge WordPress Calendar Plugin//
CALSCALE:GREGORIAN
METHOD:PUBLISH
X-WR-CALNAME:Elder Care Management
X-WR-CALDESC:
X-FROM-URL:https://eldercm.com
BEGIN:VEVENT
URL:https://eldercm.com/caregiving-today-its-a-balancing-act-on-zoom/
UID:https://eldercm.com/caregiving-today-its-a-balancing-act-on-zoom/
DTSTAMP:20260421T133605Z
DTSTART: 20240312T173000Z
DTEND: 20240313T065959Z
SUMMARY:"Caregiving Today: It's a Balancing Act" on Zoom
CONTACT:Maureen Lawrence
LOCATION:Zoom - , 
END:VEVENT
END:VCALENDAR