BEGIN:VCALENDAR
VERSION:2.0
PRODID:-//IlluminAge WordPress Calendar Plugin//
CALSCALE:GREGORIAN
METHOD:PUBLISH
X-WR-CALNAME:Elder Care Management
X-WR-CALDESC:
X-FROM-URL:https://eldercm.com
BEGIN:VEVENT
URL:https://eldercm.com/final-chapter-a-discussion-on-death-and-dying-at-the-folsom-senior-center/
UID:https://eldercm.com/final-chapter-a-discussion-on-death-and-dying-at-the-folsom-senior-center/
DTSTAMP:20260421T185215Z
DTSTART: 20240409T200000Z
DTEND: 20240409T210000Z
SUMMARY:"Final Chapter: A discussion on Death and Dying"
CONTACT:Del Oro Caregiver Resource Center
LOCATION:Cannery Farmhouse - 1550 Cannery Avenue, Davis CA 95616
END:VEVENT
END:VCALENDAR