BEGIN:VCALENDAR
VERSION:2.0
PRODID:-//IlluminAge WordPress Calendar Plugin//
CALSCALE:GREGORIAN
METHOD:PUBLISH
X-WR-CALNAME:Elder Care Management
X-WR-CALDESC:
X-FROM-URL:https://eldercm.com
BEGIN:VEVENT
URL:https://eldercm.com/collaborative-event-with-presentations-by-the-alzheimers-association-and-elder-care-management/
UID:https://eldercm.com/collaborative-event-with-presentations-by-the-alzheimers-association-and-elder-care-management/
DTSTAMP:20260421T092755Z
DTSTART: 20240229T230000Z
DTEND: 20240301T010000Z
SUMMARY:Collaborative event with presentations by the Alzheimer's Association and Elder Care Management
CONTACT:Maureen Lawrence, ECM Outreach Coordinator
LOCATION:Folsom Senior Center  - 48 Natoma Street, Folsom, CA 95630
END:VEVENT
END:VCALENDAR