BEGIN:VCALENDAR
VERSION:2.0
PRODID:-//IlluminAge WordPress Calendar Plugin//
CALSCALE:GREGORIAN
METHOD:PUBLISH
X-WR-CALNAME:Elder Care Management
X-WR-CALDESC:
X-FROM-URL:https://eldercm.com
BEGIN:VEVENT
URL:https://eldercm.com/successful-aging-it-takes-a-plan-zoom-presentation-2/
UID:https://eldercm.com/successful-aging-it-takes-a-plan-zoom-presentation-2/
DTSTAMP:20260421T092755Z
DTSTART: 20240125T210000Z
DTEND: 20240125T220000Z
SUMMARY:"Successful Aging: It Takes a Plan" Zoom presentation
CONTACT:maureen@eldercm.com
LOCATION:Zoom  - , 
END:VEVENT
END:VCALENDAR