BEGIN:VCALENDAR
VERSION:2.0
PRODID:-//IlluminAge WordPress Calendar Plugin//
CALSCALE:GREGORIAN
METHOD:PUBLISH
X-WR-CALNAME:Elder Care Management
X-WR-CALDESC:
X-FROM-URL:https://eldercm.com
BEGIN:VEVENT
URL:https://eldercm.com/vacaville-senior-resource-fair/
UID:https://eldercm.com/vacaville-senior-resource-fair/
DTSTAMP:20260421T120436Z
DTSTART: 20240119T170000Z
DTEND: 20240119T210000Z
SUMMARY:Vacaville Senior Resource Fair
CONTACT:
LOCATION:McBride Senior Center - 91 Town Square Place, Vacaville, CA 95688
END:VEVENT
END:VCALENDAR