BEGIN:VCALENDAR
VERSION:2.0
PRODID:-//IlluminAge WordPress Calendar Plugin//
CALSCALE:GREGORIAN
METHOD:PUBLISH
X-WR-CALNAME:Elder Care Management
X-WR-CALDESC:
X-FROM-URL:https://eldercm.com
BEGIN:VEVENT
URL:https://eldercm.com/care-management-101-the-value-of-aging-life-care-management-4/
UID:https://eldercm.com/care-management-101-the-value-of-aging-life-care-management-4/
DTSTAMP:20260421T112000Z
DTSTART: 20220928T210000Z
DTEND: 20220928T223000Z
SUMMARY:Care Management 101: The Value of Aging Life Care Management
CONTACT:Maureen Lawrence
LOCATION:Maidu Community Center (Mtg Rm 2) - 1550 Maidu Drive, Roseville, CA 95661
END:VEVENT
END:VCALENDAR