BEGIN:VCALENDAR
VERSION:2.0
PRODID:-//IlluminAge WordPress Calendar Plugin//
CALSCALE:GREGORIAN
METHOD:PUBLISH
X-WR-CALNAME:Elder Care Management
X-WR-CALDESC:
X-FROM-URL:https://eldercm.com
BEGIN:VEVENT
URL:https://eldercm.com/care-management-101-the-value-of-aging-life-care-management-3/
UID:https://eldercm.com/care-management-101-the-value-of-aging-life-care-management-3/
DTSTAMP:20260421T092822Z
DTSTART: 20221019T210000Z
DTEND: 20221019T223000Z
SUMMARY:Compassionate Communication between Adult Children and Aging Parents
CONTACT:Maureen Lawrence
LOCATION:Zoom - , 
END:VEVENT
END:VCALENDAR