BEGIN:VCALENDAR
VERSION:2.0
PRODID:-//IlluminAge WordPress Calendar Plugin//
CALSCALE:GREGORIAN
METHOD:PUBLISH
X-WR-CALNAME:Elder Care Management
X-WR-CALDESC:
X-FROM-URL:https://eldercm.com
BEGIN:VEVENT
URL:https://eldercm.com/10th-annual-successfully-serving-your-aging-congregation-symposium/
UID:https://eldercm.com/10th-annual-successfully-serving-your-aging-congregation-symposium/
DTSTAMP:20260419T171902Z
DTSTART: 20210923T160000Z
DTEND: 20210923T183000Z
SUMMARY:10th Annual "Successfully Serving Your Aging Congregation" Symposium
CONTACT:Senior Care Solutions
LOCATION:Town & Country Lutheran Church or Virtual - 4049 Marconi Avenue, Sacramento, CA 95821
END:VEVENT
END:VCALENDAR