BEGIN:VCALENDAR
VERSION:2.0
PRODID:-//IlluminAge WordPress Calendar Plugin//
CALSCALE:GREGORIAN
METHOD:PUBLISH
X-WR-CALNAME:Elder Care Management
X-WR-CALDESC:
X-FROM-URL:https://eldercm.com
BEGIN:VEVENT
URL:https://eldercm.com/caregiving-today-its-a-balancing-act-presentation/
UID:https://eldercm.com/caregiving-today-its-a-balancing-act-presentation/
DTSTAMP:20260421T092648Z
DTSTART: 20220920T210000Z
DTEND: 20220921T065959Z
SUMMARY:"Caregiving Today: It's a Balancing Act" presentation
CONTACT:Casey Simon
LOCATION:Revere Court Memory Care - 7707 Rush River Drive, Sacramento, CA 95831
END:VEVENT
END:VCALENDAR