BEGIN:VCALENDAR
VERSION:2.0
PRODID:-//IlluminAge WordPress Calendar Plugin//
CALSCALE:GREGORIAN
METHOD:PUBLISH
X-WR-CALNAME:Elder Care Management
X-WR-CALDESC:
X-FROM-URL:https://eldercm.com
BEGIN:VEVENT
URL:https://eldercm.com/letters-of-gratitude-writing-campaign-for-mission-to-honor-veterans/
UID:https://eldercm.com/letters-of-gratitude-writing-campaign-for-mission-to-honor-veterans/
DTSTAMP:20260421T093321Z
DTSTART: 20220831T190000Z
DTEND: 20221004T000000Z
SUMMARY:Letters of Gratitude Writing Campaign for "Mission to Honor Veterans"
CONTACT:Maureen Lawrence
LOCATION: - , 
END:VEVENT
END:VCALENDAR