BEGIN:VCALENDAR
VERSION:2.0
PRODID:-//IlluminAge WordPress Calendar Plugin//
CALSCALE:GREGORIAN
METHOD:PUBLISH
X-WR-CALNAME:Elder Care Management
X-WR-CALDESC:
X-FROM-URL:https://eldercm.com
BEGIN:VEVENT
URL:https://eldercm.com/what-my-dogs-taught-me-about-aging-presentation-by-judy-kent/
UID:https://eldercm.com/what-my-dogs-taught-me-about-aging-presentation-by-judy-kent/
DTSTAMP:20260421T132639Z
DTSTART: 20220713T210000Z
DTEND: 20220713T220000Z
SUMMARY:"What My Dogs Taught Me About Aging" presentation by Judy Kent
CONTACT:Maureen Lawrence
LOCATION:Local Senior Living Community - , 
END:VEVENT
END:VCALENDAR