BEGIN:VCALENDAR
VERSION:2.0
PRODID:-//IlluminAge WordPress Calendar Plugin//
CALSCALE:GREGORIAN
METHOD:PUBLISH
X-WR-CALNAME:Elder Care Management
X-WR-CALDESC:
X-FROM-URL:https://eldercm.com
BEGIN:VEVENT
URL:https://eldercm.com/planning-for-lifes-transitions-as-we-age/
UID:https://eldercm.com/planning-for-lifes-transitions-as-we-age/
DTSTAMP:20260421T121118Z
DTSTART: 20220805T003000Z
DTEND: 20220805T020000Z
SUMMARY:Planning for Life's Transitions As We Age
CONTACT:Jennifer Yoder
LOCATION:Van Hulzen Financial Advisors - 4370 Town Center Drive, Suite 220, El Dorado Hills, CA 95762
END:VEVENT
END:VCALENDAR