BEGIN:VCALENDAR
VERSION:2.0
PRODID:-//IlluminAge WordPress Calendar Plugin//
CALSCALE:GREGORIAN
METHOD:PUBLISH
X-WR-CALNAME:Elder Care Management
X-WR-CALDESC:
X-FROM-URL:https://eldercm.com
BEGIN:VEVENT
URL:https://eldercm.com/moving-on-when-is-the-right-time-to-move-2/
UID:https://eldercm.com/moving-on-when-is-the-right-time-to-move-2/
DTSTAMP:20260421T161627Z
DTSTART: 20220519T220000Z
DTEND: 20220519T233000Z
SUMMARY:Moving On: When is the Right Time to Move
CONTACT:Maureen Lawrence
LOCATION:Zoom  - , 
END:VEVENT
END:VCALENDAR