BEGIN:VCALENDAR
VERSION:2.0
PRODID:-//IlluminAge WordPress Calendar Plugin//
CALSCALE:GREGORIAN
METHOD:PUBLISH
X-WR-CALNAME:Elder Care Management
X-WR-CALDESC:
X-FROM-URL:https://eldercm.com
BEGIN:VEVENT
URL:https://eldercm.com/what-my-dogs-taught-me-about-aging/
UID:https://eldercm.com/what-my-dogs-taught-me-about-aging/
DTSTAMP:20260421T160530Z
DTSTART: 20220512T210000Z
DTEND: 20220512T223000Z
SUMMARY:What My Dogs Taught Me about Aging
CONTACT:Maureen Lawrence
LOCATION:Maidu Community Center (Arts & Crafts Room) - 1550 Maidu Drive, Roseville, CA 95661
END:VEVENT
END:VCALENDAR