BEGIN:VCALENDAR
VERSION:2.0
PRODID:-//IlluminAge WordPress Calendar Plugin//
CALSCALE:GREGORIAN
METHOD:PUBLISH
X-WR-CALNAME:Elder Care Management
X-WR-CALDESC:
X-FROM-URL:https://eldercm.com
BEGIN:VEVENT
URL:https://eldercm.com/moving-on-when-is-the-right-time-to-move/
UID:https://eldercm.com/moving-on-when-is-the-right-time-to-move/
DTSTAMP:20260421T133105Z
DTSTART: 20220721T220000Z
DTEND: 20220721T233000Z
SUMMARY:Navigating Emergency Room and Hospital Visits
CONTACT:Maureen Lawrence
LOCATION:Zoom  - , 
END:VEVENT
END:VCALENDAR