BEGIN:VCALENDAR
VERSION:2.0
PRODID:-//IlluminAge WordPress Calendar Plugin//
CALSCALE:GREGORIAN
METHOD:PUBLISH
X-WR-CALNAME:Elder Care Management
X-WR-CALDESC:
X-FROM-URL:https://eldercm.com
BEGIN:VEVENT
URL:https://eldercm.com/advance-health-care-directives-polst-a-free-zoom-educational-presentation-as-part-of-our-successful-aging-series/
UID:https://eldercm.com/advance-health-care-directives-polst-a-free-zoom-educational-presentation-as-part-of-our-successful-aging-series/
DTSTAMP:20260419T202915Z
DTSTART: 20220317T220000Z
DTEND: 20220317T233000Z
SUMMARY:"Advance Health Care Directives & POLST" presentation on Zoom
CONTACT:Maureen Lawrence
LOCATION:Zoom  - , 
END:VEVENT
END:VCALENDAR