BEGIN:VCALENDAR
VERSION:2.0
PRODID:-//IlluminAge WordPress Calendar Plugin//
CALSCALE:GREGORIAN
METHOD:PUBLISH
X-WR-CALNAME:Elder Care Management
X-WR-CALDESC:
X-FROM-URL:https://eldercm.com
BEGIN:VEVENT
URL:https://eldercm.com/caring-for-the-caregiver-virtual-presentation-hosted-by-catholic-funeral-cemetery-services/
UID:https://eldercm.com/caring-for-the-caregiver-virtual-presentation-hosted-by-catholic-funeral-cemetery-services/
DTSTAMP:20260419T185723Z
DTSTART: 20220217T220000Z
DTEND: 20220217T233000Z
SUMMARY:"Caring for the Caregiver" virtual presentation hosted by Catholic Funeral & Cemetery Services
CONTACT:Maureen Lawrence
LOCATION:Virtual - , 
END:VEVENT
END:VCALENDAR