BEGIN:VCALENDAR
VERSION:2.0
PRODID:-//IlluminAge WordPress Calendar Plugin//
CALSCALE:GREGORIAN
METHOD:PUBLISH
X-WR-CALNAME:Elder Care Management
X-WR-CALDESC:
X-FROM-URL:https://eldercm.com
BEGIN:VEVENT
URL:https://eldercm.com/successful-aging-it-takes-a-plan-zoom-presentation/
UID:https://eldercm.com/successful-aging-it-takes-a-plan-zoom-presentation/
DTSTAMP:20260421T080546Z
DTSTART: 20220120T230000Z
DTEND: 20220121T003000Z
SUMMARY:"Successful Aging: It Takes a Plan" Zoom presentation
CONTACT:Maureen Lawrence, ECM Outreach Coordinator
LOCATION:Zoom - , 
END:VEVENT
END:VCALENDAR