BEGIN:VCALENDAR
VERSION:2.0
PRODID:-//IlluminAge WordPress Calendar Plugin//
CALSCALE:GREGORIAN
METHOD:PUBLISH
X-WR-CALNAME:Elder Care Management
X-WR-CALDESC:
X-FROM-URL:https://eldercm.com
BEGIN:VEVENT
URL:https://eldercm.com/holiday-comfort-cheer/
UID:https://eldercm.com/holiday-comfort-cheer/
DTSTAMP:20260419T185804Z
DTSTART: 20211201T080000Z
DTEND: 20211218T010000Z
SUMMARY:Holiday Comfort & Cheer
CONTACT:Maureen Lawrence
LOCATION: - , 
END:VEVENT
END:VCALENDAR