BEGIN:VCALENDAR
VERSION:2.0
PRODID:-//IlluminAge WordPress Calendar Plugin//
CALSCALE:GREGORIAN
METHOD:PUBLISH
X-WR-CALNAME:Elder Care Management
X-WR-CALDESC:
X-FROM-URL:https://eldercm.com
BEGIN:VEVENT
URL:https://eldercm.com/navigating-emergency-room-hospital-visits-3/
UID:https://eldercm.com/navigating-emergency-room-hospital-visits-3/
DTSTAMP:20260419T185918Z
DTSTART: 20211216T230000Z
DTEND: 20211217T003000Z
SUMMARY:Compassionate Communication between Adult Children & Aging Parents
CONTACT:Maureen Lawrence, ECM Outreach Coordinator
LOCATION:Zoom  - , 
END:VEVENT
END:VCALENDAR