BEGIN:VCALENDAR
VERSION:2.0
PRODID:-//IlluminAge WordPress Calendar Plugin//
CALSCALE:GREGORIAN
METHOD:PUBLISH
X-WR-CALNAME:Elder Care Management
X-WR-CALDESC:
X-FROM-URL:https://eldercm.com
BEGIN:VEVENT
URL:https://eldercm.com/revere-court-senior-resource-fair/
UID:https://eldercm.com/revere-court-senior-resource-fair/
DTSTAMP:20260419T155529Z
DTSTART: 20211008T170000Z
DTEND: 20211008T210000Z
SUMMARY:Revere Court Senior Resource Fair
CONTACT:Casey Simon
LOCATION:Revere Court Memory Care - 7707 Rush River Drive, Sacramento, CA 95831
END:VEVENT
END:VCALENDAR