BEGIN:VCALENDAR
VERSION:2.0
PRODID:-//IlluminAge WordPress Calendar Plugin//
CALSCALE:GREGORIAN
METHOD:PUBLISH
X-WR-CALNAME:Elder Care Management
X-WR-CALDESC:
X-FROM-URL:https://eldercm.com
BEGIN:VEVENT
URL:https://eldercm.com/care-management-101/
UID:https://eldercm.com/care-management-101/
DTSTAMP:20260419T155058Z
DTSTART: 20211007T210000Z
DTEND: 20211007T223000Z
SUMMARY:Care Management 101
CONTACT:Maureen Lawrence
LOCATION:Zoom - , 
END:VEVENT
END:VCALENDAR