BEGIN:VCALENDAR
VERSION:2.0
PRODID:-//IlluminAge WordPress Calendar Plugin//
CALSCALE:GREGORIAN
METHOD:PUBLISH
X-WR-CALNAME:Elder Care Management
X-WR-CALDESC:
X-FROM-URL:https://eldercm.com
BEGIN:VEVENT
URL:https://eldercm.com/caregiving-today-its-a-balancing-act-2/
UID:https://eldercm.com/caregiving-today-its-a-balancing-act-2/
DTSTAMP:20260419T172429Z
DTSTART: 20210916T220000Z
DTEND: 20210916T233000Z
SUMMARY:Caregiving Today: It's a Balancing Act
CONTACT:Maureen Lawrence, Outreach Coordinator
LOCATION:Zoom - , 
END:VEVENT
END:VCALENDAR