BEGIN:VCALENDAR
VERSION:2.0
PRODID:-//IlluminAge WordPress Calendar Plugin//
CALSCALE:GREGORIAN
METHOD:PUBLISH
X-WR-CALNAME:Elder Care Management
X-WR-CALDESC:
X-FROM-URL:https://eldercm.com
BEGIN:VEVENT
URL:https://eldercm.com/care-management-101-the-value-of-aging-life-care-management/
UID:https://eldercm.com/care-management-101-the-value-of-aging-life-care-management/
DTSTAMP:20260419T190036Z
DTSTART: 20210819T220000Z
DTEND: 20210819T233000Z
SUMMARY:Care Management 101: The Value of Aging Life Care Management
CONTACT:Maureen Lawrence
LOCATION:Zoom - , 
END:VEVENT
END:VCALENDAR