BEGIN:VCALENDAR
VERSION:2.0
PRODID:-//IlluminAge WordPress Calendar Plugin//
CALSCALE:GREGORIAN
METHOD:PUBLISH
X-WR-CALNAME:Elder Care Management
X-WR-CALDESC:
X-FROM-URL:https://eldercm.com
BEGIN:VEVENT
URL:https://eldercm.com/successful-aging-it-takes-a-plan-4/
UID:https://eldercm.com/successful-aging-it-takes-a-plan-4/
DTSTAMP:20260419T202823Z
DTSTART: 20210715T220000Z
DTEND: 20210715T233000Z
SUMMARY:Successful Aging: It Takes a Plan
CONTACT:Maureen Lawrence, ECM Outreach Coordinator
LOCATION:Zoom  - , 
END:VEVENT
END:VCALENDAR