BEGIN:VCALENDAR
VERSION:2.0
PRODID:-//IlluminAge WordPress Calendar Plugin//
CALSCALE:GREGORIAN
METHOD:PUBLISH
X-WR-CALNAME:Elder Care Management
X-WR-CALDESC:
X-FROM-URL:https://eldercm.com
BEGIN:VEVENT
URL:https://eldercm.com/caregiving-today-understanding-alzheimers-and-dementia-collaborative-event-by-ecm-and-alzheimers-association/
UID:https://eldercm.com/caregiving-today-understanding-alzheimers-and-dementia-collaborative-event-by-ecm-and-alzheimers-association/
DTSTAMP:20260419T234711Z
DTSTART: 20210505T190000Z
DTEND: 20210505T203000Z
SUMMARY:Caregiving Today &amp; Understanding Alzheimer's and dementia- collaborative event by ECM and Alzheimer's Association
CONTACT:Maureen Lawrence, Outreach Coordinator
LOCATION:Zoom  - , 
END:VEVENT
END:VCALENDAR