BEGIN:VCALENDAR
VERSION:2.0
PRODID:-//IlluminAge WordPress Calendar Plugin//
CALSCALE:GREGORIAN
METHOD:PUBLISH
X-WR-CALNAME:Elder Care Management
X-WR-CALDESC:
X-FROM-URL:https://eldercm.com
BEGIN:VEVENT
URL:https://eldercm.com/successful-aging-it-takes-a-plan-2/
UID:https://eldercm.com/successful-aging-it-takes-a-plan-2/
DTSTAMP:20260419T235109Z
DTSTART: 20210520T220000Z
DTEND: 20210520T233000Z
SUMMARY:Advance Health Care Directive &amp; POLST (part of the Successful Aging series)
CONTACT:Maureen Lawrence, ECM Outreach Coordinator
LOCATION:Zoom  - , 
END:VEVENT
END:VCALENDAR